BEGIN:VCALENDAR
VERSION:2.0
PRODID:-//Musicians For Musicians - ECPv5.8.0//NONSGML v1.0//EN
CALSCALE:GREGORIAN
METHOD:PUBLISH
X-WR-CALNAME:Musicians For Musicians
X-ORIGINAL-URL:https://musiciansformusicians.org
X-WR-CALDESC:Events for Musicians For Musicians
BEGIN:VTIMEZONE
TZID:America/New_York
BEGIN:DAYLIGHT
TZOFFSETFROM:-0500
TZOFFSETTO:-0400
TZNAME:EDT
DTSTART:20190310T070000
END:DAYLIGHT
BEGIN:STANDARD
TZOFFSETFROM:-0400
TZOFFSETTO:-0500
TZNAME:EST
DTSTART:20191103T060000
END:STANDARD
END:VTIMEZONE
BEGIN:VEVENT
DTSTART;TZID=America/New_York:20190306T190000
DTEND;TZID=America/New_York:20190306T210000
DTSTAMP:20210716T012948
CREATED:20190301T192047Z
LAST-MODIFIED:20190301T235031Z
UID:3340-1551898800-1551906000@musiciansformusicians.org
SUMMARY:New York Composers Circle live jazz Feat. the NYCC Jazz Quintet w. Roger Blanc
DESCRIPTION:The New York Composers Circle announces a Jazz Performance by the NYCC Jazz Quintet (Michael Laderman-flute\, Roger Blanc-guitar\, Emiko Hayashi-piano\, Nate Haselby-bass\, David Picton-drums)\, and a special performance by Peri Mauer\, cello. \nThe performance will showcase music by NYCC composers\, including Peri Mauer\, Dary John Mizelle\, Michael Laderman\, Roger Blanc\, Emiko Hayashi\, David Picton\, and Timothy Miller. \n 
URL:https://musiciansformusicians.org/event/new-york-composers-circle-live-jazz-feat-the-nycc-jazz-quintet-w-roger-blanc/
LOCATION:Zinc Bar\, 82 West 3rd Street\, New York\, NY\, 10012\, United States
CATEGORIES:Concert
ATTACH;FMTTYPE=image/jpeg:https://secureservercdn.net/50.62.89.111/ym5.c65.myftpupload.com/wp-content/uploads/2019/03/NYCC-Zinc-Bar-3-6-19-promo.jpeg?time=1625857615
END:VEVENT
END:VCALENDAR