BEGIN:VCALENDAR
VERSION:2.0
PRODID:-//Musicians For Musicians - ECPv5.8.0//NONSGML v1.0//EN
CALSCALE:GREGORIAN
METHOD:PUBLISH
X-WR-CALNAME:Musicians For Musicians
X-ORIGINAL-URL:https://musiciansformusicians.org
X-WR-CALDESC:Events for Musicians For Musicians
BEGIN:VTIMEZONE
TZID:UTC
BEGIN:STANDARD
TZOFFSETFROM:+0000
TZOFFSETTO:+0000
TZNAME:UTC
DTSTART:20190101T000000
END:STANDARD
END:VTIMEZONE
BEGIN:VEVENT
DTSTART;TZID=UTC:20190303T140000
DTEND;TZID=UTC:20190303T153000
DTSTAMP:20210716T012923
CREATED:20190113T113850Z
LAST-MODIFIED:20190227T144533Z
UID:2894-1551621600-1551627000@musiciansformusicians.org
SUMMARY:Kingston Musician Meet Up #2
DESCRIPTION:Kingston MFM Musicians Meet Up #2 w. Speaker Sohrab Saadat Ladjevardi (MFM President) \nText by Stephen Johnson \nOrganized by MFM Members Stephen Johnson (845-282-6721) and Peter Wetzler (416-848-8268). \nSo whether you are a seasoned professional gigging musician or a budding songwriter\, there are some shared issues that MFM is boldly addressing\,  such as knowing our rights as musicians. Professional musician distinctions. Sustainability in the music industry. Educating and inspiring music patronage. Championing the value and business of music. \nThese are are all matters we share concern for\, and this Conversation promises to be time well spent especially with your voices being heard. \nWhat does it take?\n* Eagerness to evolve the musicians story\,\n* $10 ticket which will be credited toward registration for a years MFM membership\,\n* Attend and get the inspiration that MFM brings to the conversation. \nHere is the link to the website: https://musiciansformusicians.org \nLink to MFM yearly registration: https://musiciansformusicians.org/product/registration/ \nFacebook post of #1 Kingston Meet Up #1: https://www.facebook.com/groups/1986481551623837/permalink/2208748679397122/
URL:https://musiciansformusicians.org/event/kingston-musician-meet-up-2/
LOCATION:Church Des Artistes\, 79 Wurts Street\, Kingston\, New York\, 12401
CATEGORIES:MFM Musicians Meet Up
ATTACH;FMTTYPE=image/jpeg:https://secureservercdn.net/50.62.89.111/ym5.c65.myftpupload.com/wp-content/uploads/2019/01/Kingston-Meeting-Photo.jpg?time=1625857615
END:VEVENT
END:VCALENDAR