BEGIN:VCALENDAR
VERSION:2.0
PRODID:-//Musicians For Musicians - ECPv5.9.1//NONSGML v1.0//EN
CALSCALE:GREGORIAN
METHOD:PUBLISH
X-WR-CALNAME:Musicians For Musicians
X-ORIGINAL-URL:https://musiciansformusicians.org
X-WR-CALDESC:Events for Musicians For Musicians
BEGIN:VTIMEZONE
TZID:America/New_York
BEGIN:DAYLIGHT
TZOFFSETFROM:-0500
TZOFFSETTO:-0400
TZNAME:EDT
DTSTART:20200308T070000
END:DAYLIGHT
BEGIN:STANDARD
TZOFFSETFROM:-0400
TZOFFSETTO:-0500
TZNAME:EST
DTSTART:20201101T060000
END:STANDARD
END:VTIMEZONE
BEGIN:VEVENT
DTSTART;TZID=America/New_York:20200227T190000
DTEND;TZID=America/New_York:20200227T210000
DTSTAMP:20211007T192852
CREATED:20200112T192442Z
LAST-MODIFIED:20200225T230009Z
UID:5346-1582830000-1582837200@musiciansformusicians.org
SUMMARY:MFM Public Musicians Forum #20
DESCRIPTION:Run by Sohrab Saadat Ladjevardi (President) and Billy Harper (BoD). This forum will feature topics on a variety of musician and music business related subjects of interest to our members and non members. \nALL musicians of ALL genres are invited to attend\, including music educators\, DJ’s\, Hip Hop artists\, music advocates\, Union people\, #UnityInTheMusicCommunity. \n Agenda \n1. Guest speaker musician\,band leader and educator Val Kinzler. \nShe will speak about her “humble” beginnings\, the struggle to earn a living as a teaching artist\, performer\, songwriter while raising her son and will address the importance of securing a support network that allows creative artists to evolve and maintain their skills.\nSpeaking about the ins and outs as a producer\, conceptualist\, booker and host of events. And sharing her experience as a mediator in the midst of high stress\, conflictual situations dealing with fellow artists and band mates and serendipitous meetings of the mind with some well known greats she’s been fortunate to meet and collaborate with.\nShe also has a band that still plays live and records and worked as a prevention specialist/counselor for at risk youth teaching songwriting as a positive alternative at the NYC Department Of Education.\nFurthermore\, she also wants to talk about her upcoming NYC Women Who Rock Festival in March which is in collaboration with New Century ENTERTAINMENT’s Founder Michael McHugh who was the speaker at our last forum. \n2. Adam Reifsteck will report about his forthcoming MFM SPEAKS OUT podcast \n3. Roger Blanc will speak about the California AB 5 Law and its (negative) impact on freelancing musicians (called independen contractors by Labor Law)\, \n4. Ken Hatfield will speak about and discuss the importance of meta data like the ISRC code.
URL:https://musiciansformusicians.org/event/mfm-public-musicians-forum-20/
LOCATION:Wingspan Arts\, Film Center Building\, 630 9th Ave\, Suite 602\, New York\, NY\, 10036\, United States
CATEGORIES:MFM Public Musicians Forum
ATTACH;FMTTYPE=image/jpeg:https://secureservercdn.net/50.62.89.111/ym5.c65.myftpupload.com/wp-content/uploads/2020/01/come_together____by_yungraph-d36prhf.jpg?time=1633094816
END:VEVENT
END:VCALENDAR