BEGIN:VCALENDAR
VERSION:2.0
PRODID:-//Musicians For Musicians - ECPv5.9.1//NONSGML v1.0//EN
CALSCALE:GREGORIAN
METHOD:PUBLISH
X-WR-CALNAME:Musicians For Musicians
X-ORIGINAL-URL:https://musiciansformusicians.org
X-WR-CALDESC:Events for Musicians For Musicians
BEGIN:VTIMEZONE
TZID:America/New_York
BEGIN:DAYLIGHT
TZOFFSETFROM:-0500
TZOFFSETTO:-0400
TZNAME:EDT
DTSTART:20190310T070000
END:DAYLIGHT
BEGIN:STANDARD
TZOFFSETFROM:-0400
TZOFFSETTO:-0500
TZNAME:EST
DTSTART:20191103T060000
END:STANDARD
END:VTIMEZONE
BEGIN:VEVENT
DTSTART;TZID=America/New_York:20190724T190000
DTEND;TZID=America/New_York:20190724T210000
DTSTAMP:20211009T024136
CREATED:20190723T221358Z
LAST-MODIFIED:20190723T221358Z
UID:4381-1563994800-1564002000@musiciansformusicians.org
SUMMARY:MFM Public Musicians Forum #16
DESCRIPTION:  \n \nRun by Sohrab Saadat Ladjevardi (President) and Billy Harper (BoD). This forum will feature topics on a variety of subjects of interest to our members and non members. \nNot only ALL musicians of ALL genres are invited to attend\, but also music educators\, DJ’s\, Hip Hop artists\, music advocates\, Union people\, etc. according to #UnityInTheMusicCommunity. \nDate: Wednesday\, July 24\, 2019\nTime: 7:00 PM to 9:00 PM\nVenue: Wingspan Arts (Film Center Building\, 630 9th Ave\, between 44 & 45 St.\, Suite 602\, NY\, NY 10036)\, Contact: 212-586-2330
URL:https://musiciansformusicians.org/event/mfm-public-musicians-forum-16/
LOCATION:Wingspan Arts\, Film Center Building\, 630 9th Ave\, Suite 602\, New York\, NY\, 10036\, United States
CATEGORIES:MFM Public Musicians Forum
ATTACH;FMTTYPE=image/jpeg:https://secureservercdn.net/50.62.89.111/ym5.c65.myftpupload.com/wp-content/uploads/2018/11/come_together____by_yungraph-d36prhf.jpg?time=1633738703
ORGANIZER;CN="Musicians%20For%20Musicians%20%28MFM%29":MAILTO:sohrab@MusiciansForMusicians.org
END:VEVENT
END:VCALENDAR