BEGIN:VCALENDAR
VERSION:2.0
PRODID:-//Musicians For Musicians - ECPv5.7.0//NONSGML v1.0//EN
CALSCALE:GREGORIAN
METHOD:PUBLISH
X-WR-CALNAME:Musicians For Musicians
X-ORIGINAL-URL:https://musiciansformusicians.org
X-WR-CALDESC:Events for Musicians For Musicians
BEGIN:VTIMEZONE
TZID:America/New_York
BEGIN:DAYLIGHT
TZOFFSETFROM:-0500
TZOFFSETTO:-0400
TZNAME:EDT
DTSTART:20190310T070000
END:DAYLIGHT
BEGIN:STANDARD
TZOFFSETFROM:-0400
TZOFFSETTO:-0500
TZNAME:EST
DTSTART:20191103T060000
END:STANDARD
END:VTIMEZONE
BEGIN:VEVENT
DTSTART;TZID=America/New_York:20190924T190000
DTEND;TZID=America/New_York:20190924T203000
DTSTAMP:20210607T111934
CREATED:20190906T173130Z
LAST-MODIFIED:20190910T235853Z
UID:4785-1569351600-1569357000@musiciansformusicians.org
SUMMARY:MFM Presents: “Make Music Your Business” #9 Workshop with Ken Hatfield
DESCRIPTION:Ken Hatfield Speaking About Copyright – legally protecting your creations. Understanding\, securing and defending the most fundamental of all artists’ rights. \nDate: Tuesday\, September 24th\, 2019\nTime: 7pm to 8:30pm\nVenue: Wingspan Arts (Film Center Building\, 630 9th Ave\, between 44 & 45 St.\, Suite 602\, NY\, NY 10036)\nTicket: $15 (free for MFM members). Buy here: https://www.eventbrite.com/e/mfm-pres-make-music-your-business-9-workshop-w-ken-hatfield-tickets-72302539843/ No refunds.\nSeating: limited (up to 25 seats) \n“What finally turned me into an activist for artists’ rights was the realization that no musician can afford to sit on the sidelines expecting others to fight for rights we ourselves are unwilling to defend.” Ken Hatfield \nMFM Advisory Committee member Ken Hatfield will discuss what copyright is\, its origins\, its importance and why giant tech corporations are funding Astroturf campaigns to undermine it. He will also cover what individual artists need to do to secure and protect the ownership rights of their music under the recently passed Music Modernization Act (MMA). \nAbout Ken Hatfield: the musician\, author and activist \nA leading proponent of jazz played on the classical guitar\, composer KEN HATFIELD received ASCAP‘s prestigious Vanguard Award in 2006 for “innovative and distinctive music that is charting new directions in jazz.” \nKen’s the leader on 10 commercially released CDs\, 9 featuring him performing his original compositions\, as a soloist or with his ensembles. He’s published six books of his compositions. In 2005 Mel Bay published his comprehensive instructional book Jazz and the Classical Guitar: Theory and Application and in 2017 included two of his compositions in Contemporary Guitar Composers of the Americas. \nKen’s compositional experience ranges from jazz works for his own ensembles\, to solo classical guitar works\, choral works\, and ballet scores for Judith Jamison\, The Washington Ballet Company\, and the Maurice Béjart Ballet Company\, as well as scores for television and film\, including Eugene Richards’ award-winning documentary but\, the day came. \nKen continues to lead his own ensembles and be an in-demand sideman. In recent years he has also become an artist rights activist\, serving as co-chair of the Artist Rights Caucus of Local 802 and as a member of the Advisory Committee of Musicians for Musicians (MFM). In April 2019 he participated in the United States Copyright Office’s fifth and final roundtable on reform of section 512 of the Digital Millennium Copyright Act. \n 
URL:https://musiciansformusicians.org/event/mfm-presents-make-music-your-business-8-workshop-with-ken-hatfield/
LOCATION:Wingspan Arts\, Film Center Building\, 630 9th Ave\, Suite 602\, New York\, NY\, 10036\, United States
CATEGORIES:MFM Workshop
ATTACH;FMTTYPE=image/jpeg:https://secureservercdn.net/50.62.89.111/ym5.c65.myftpupload.com/wp-content/uploads/2019/09/Ken-Hatfield.jpg?time=1623024759
ORGANIZER;CN="Musicians%20For%20Musicians%20%28MFM%29":MAILTO:sohrab@MusiciansForMusicians.org
END:VEVENT
END:VCALENDAR