BEGIN:VCALENDAR
VERSION:2.0
PRODID:-//Musicians For Musicians - ECPv5.9.1//NONSGML v1.0//EN
CALSCALE:GREGORIAN
METHOD:PUBLISH
X-WR-CALNAME:Musicians For Musicians
X-ORIGINAL-URL:https://musiciansformusicians.org
X-WR-CALDESC:Events for Musicians For Musicians
BEGIN:VTIMEZONE
TZID:America/New_York
BEGIN:DAYLIGHT
TZOFFSETFROM:-0500
TZOFFSETTO:-0400
TZNAME:EDT
DTSTART:20190310T070000
END:DAYLIGHT
BEGIN:STANDARD
TZOFFSETFROM:-0400
TZOFFSETTO:-0500
TZNAME:EST
DTSTART:20191103T060000
END:STANDARD
END:VTIMEZONE
BEGIN:VEVENT
DTSTART;TZID=America/New_York:20190919T190000
DTEND;TZID=America/New_York:20190919T200000
DTSTAMP:20211012T235703
CREATED:20190911T003726Z
LAST-MODIFIED:20190911T003726Z
UID:4808-1568919600-1568923200@musiciansformusicians.org
SUMMARY:Dawoud Kringle's Music Meditation Session
DESCRIPTION:Dawoud Kringle‘s Music Meditation Sessions are a unique experience. It is a guided meditation that replaces suggested imagery with psychoactive musical form. Many people have had profound experiences with this. \nInspired by the vast musical traditions from around the world; east and west\, acoustic and electronic\, modern and ancient. Dawoud uses these varied genres to provide a creative and sacred inspiration\, and illuminate a new musical path. \nIn addition to being an accomplished guitarist and bassist\, it is his work on the sitar and dilruba that have earned his reputation as “The Jimi Hendrix of the sitar.” His experiments with applying jazz technique and electronics to the traditional music and techniques are unprecedented\, and seeks to extend the boundaries of the instruments.
URL:https://musiciansformusicians.org/event/dawoud-kringles-music-meditation-session/
LOCATION:Quest Bookshop\, 240 E 53rd Street\, New York\, NY\, 10222\, United States
CATEGORIES:Concert
END:VEVENT
END:VCALENDAR